BEGIN:VCALENDAR
VERSION:2.0
PRODID:-//Automotive Testing Technology International - ECPv6.15.17//NONSGML v1.0//EN
CALSCALE:GREGORIAN
METHOD:PUBLISH
X-ORIGINAL-URL:https://www.automotivetestingtechnologyinternational.com
X-WR-CALDESC:Events for Automotive Testing Technology International
REFRESH-INTERVAL;VALUE=DURATION:PT1H
X-Robots-Tag:noindex
X-PUBLISHED-TTL:PT1H
BEGIN:VTIMEZONE
TZID:Europe/London
BEGIN:DAYLIGHT
TZOFFSETFROM:+0000
TZOFFSETTO:+0100
TZNAME:BST
DTSTART:20240331T010000
END:DAYLIGHT
BEGIN:STANDARD
TZOFFSETFROM:+0100
TZOFFSETTO:+0000
TZNAME:GMT
DTSTART:20241027T010000
END:STANDARD
BEGIN:DAYLIGHT
TZOFFSETFROM:+0000
TZOFFSETTO:+0100
TZNAME:BST
DTSTART:20250330T010000
END:DAYLIGHT
BEGIN:STANDARD
TZOFFSETFROM:+0100
TZOFFSETTO:+0000
TZNAME:GMT
DTSTART:20251026T010000
END:STANDARD
BEGIN:DAYLIGHT
TZOFFSETFROM:+0000
TZOFFSETTO:+0100
TZNAME:BST
DTSTART:20260329T010000
END:DAYLIGHT
BEGIN:STANDARD
TZOFFSETFROM:+0100
TZOFFSETTO:+0000
TZNAME:GMT
DTSTART:20261025T010000
END:STANDARD
END:VTIMEZONE
BEGIN:VTIMEZONE
TZID:Asia/Shanghai
BEGIN:STANDARD
TZOFFSETFROM:+0800
TZOFFSETTO:+0800
TZNAME:CST
DTSTART:20240101T000000
END:STANDARD
END:VTIMEZONE
BEGIN:VEVENT
DTSTART;TZID=Europe/London:20251112T090000
DTEND;TZID=Europe/London:20251113T170000
DTSTAMP:20260419T161119
CREATED:20241205T152953Z
LAST-MODIFIED:20250212T104524Z
UID:60682-1762938000-1763053200@www.automotivetestingtechnologyinternational.com
SUMMARY:PMW Expo 2025
DESCRIPTION:
URL:https://www.automotivetestingtechnologyinternational.com/event/pmw-expo-2025
LOCATION:Koelnmesse\, Messepl. 1\, Köln\, 50679\, Germany
ATTACH;FMTTYPE=image/jpeg:https://www.automotivetestingtechnologyinternational.com/wp-content/uploads/2024/12/pmw_RB.jpg
ORGANIZER;CN="UKi Media & Events":MAILTO:dominic.cundy@ukimediaevents.com
END:VEVENT
BEGIN:VEVENT
DTSTART;VALUE=DATE:20251021
DTEND;VALUE=DATE:20251024
DTSTAMP:20260419T161119
CREATED:20221123T151347Z
LAST-MODIFIED:20250212T134217Z
UID:57632-1761004800-1761263999@www.automotivetestingtechnologyinternational.com
SUMMARY:Automotive Testing Expo North America 2025
DESCRIPTION:
URL:https://www.automotivetestingtechnologyinternational.com/event/automotive-testing-expo-in-novi-michigan-2023
LOCATION:Suburban Collection Showplace\, 46100 Grand River Avenue\, Novi\, MI\, 48374\, United States
ATTACH;FMTTYPE=image/png:https://www.automotivetestingtechnologyinternational.com/wp-content/uploads/2022/11/TXNA-expo-logo-e1739367704117.png
ORGANIZER;CN="UKi Media & Events":MAILTO:dominic.cundy@ukimediaevents.com
END:VEVENT
BEGIN:VEVENT
DTSTART;VALUE=DATE:20250827
DTEND;VALUE=DATE:20250829
DTSTAMP:20260419T161119
CREATED:20221123T153352Z
LAST-MODIFIED:20250212T135028Z
UID:57637-1756252800-1756425599@www.automotivetestingtechnologyinternational.com
SUMMARY:ADAS & Autonomous Vehicle Technology Summit North America 2025
DESCRIPTION:
URL:https://www.automotivetestingtechnologyinternational.com/event/adas-autonomous-vehicle-technology-expo-california
LOCATION:San Jose McEnery Convention Center USA\, 150 W San Carlos St\, San Jose\, CA\, 95113\, United States
ATTACH;FMTTYPE=image/png:https://www.automotivetestingtechnologyinternational.com/wp-content/uploads/2025/02/AVTXUS-expo-logo-e1739368180348.png
ORGANIZER;CN="UKi Media & Events":MAILTO:dominic.cundy@ukimediaevents.com
END:VEVENT
BEGIN:VEVENT
DTSTART;VALUE=DATE:20250827
DTEND;VALUE=DATE:20250830
DTSTAMP:20260419T161119
CREATED:20171128T092847Z
LAST-MODIFIED:20250212T134438Z
UID:57616-1756252800-1756511999@www.automotivetestingtechnologyinternational.com
SUMMARY:Testing Expo - Automotive - China 2025
DESCRIPTION:
URL:https://www.automotivetestingtechnologyinternational.com/event/testing-expo-automotive-china
LOCATION:SWEECC\, Hall 3\, North or South Entrance\, 1099 Guozhan Rd\, Pudong\, Shanghai\, China
ATTACH;FMTTYPE=image/png:https://www.automotivetestingtechnologyinternational.com/wp-content/uploads/2025/02/TXCH-2025-expo-logo-e1739367849432.png
ORGANIZER;CN="UKi Media & Events":MAILTO:dominic.cundy@ukimediaevents.com
END:VEVENT
BEGIN:VEVENT
DTSTART;VALUE=DATE:20250520
DTEND;VALUE=DATE:20250523
DTSTAMP:20260419T161119
CREATED:20221123T151128Z
LAST-MODIFIED:20250212T135234Z
UID:57631-1747699200-1747958399@www.automotivetestingtechnologyinternational.com
SUMMARY:Automotive Testing Expo Europe 2025
DESCRIPTION:
URL:https://www.automotivetestingtechnologyinternational.com/event/automotive-testing-expo-europe-2023
LOCATION:Messe Stuttgart\, Messepiazza 1\, Stuttgart\, 70629\, Germany
ATTACH;FMTTYPE=image/png:https://www.automotivetestingtechnologyinternational.com/wp-content/uploads/2025/02/TXEU-expo-logo-e1739368335699.png
ORGANIZER;CN="UKi Media & Events":MAILTO:dominic.cundy@ukimediaevents.com
END:VEVENT
BEGIN:VEVENT
DTSTART;VALUE=DATE:20250520
DTEND;VALUE=DATE:20250523
DTSTAMP:20260419T161119
CREATED:20181126T150937Z
LAST-MODIFIED:20250212T135413Z
UID:57621-1747699200-1747958399@www.automotivetestingtechnologyinternational.com
SUMMARY:ADAS & Autonomous Vehicle Technology Expo Europe 2025
DESCRIPTION:
URL:https://www.automotivetestingtechnologyinternational.com/event/autonomous-vehicle-test-development-symposium-2019
LOCATION:Messe Stuttgart\, Messepiazza 1\, Stuttgart\, 70629\, Germany
ATTACH;FMTTYPE=image/png:https://www.automotivetestingtechnologyinternational.com/wp-content/uploads/2025/02/AVTX-expo-logo-e1739368440284.png
ORGANIZER;CN="UKi Media & Events":MAILTO:dominic.cundy@ukimediaevents.com
END:VEVENT
BEGIN:VEVENT
DTSTART;VALUE=DATE:20250304
DTEND;VALUE=DATE:20250307
DTSTAMP:20260419T161119
CREATED:20221123T153532Z
LAST-MODIFIED:20250212T135633Z
UID:57638-1741046400-1741305599@www.automotivetestingtechnologyinternational.com
SUMMARY:Tire Technology Expo 2025
DESCRIPTION:
URL:https://www.automotivetestingtechnologyinternational.com/event/tire-technology-expo
LOCATION:Deutsche Messe Hannover\, Messegelände\, Hannover\, 30521\, Germany
ATTACH;FMTTYPE=image/png:https://www.automotivetestingtechnologyinternational.com/wp-content/uploads/2022/11/Tire-Expo-2025-logo-e1739368567676.png
ORGANIZER;CN="UKi Media & Events":MAILTO:dominic.cundy@ukimediaevents.com
END:VEVENT
END:VCALENDAR